BEGIN:VCALENDAR
VERSION:2.0
PRODID:-//SSV Calmbach 1960 e.V.//NONSGML kigkonsult.se iCalcreator 2.30.10
 //
CALSCALE:GREGORIAN
METHOD:PUBLISH
UID:224885ba-237e-4089-86c1-2d6eaa7e20c5
X-WR-CALNAME:iCagenda
X-WR-CALDESC:Event Management Extension for Joomla!
X-WR-RELCALID:3E26604A-50F4-4449-8B3E-E4F4932D05B5
X-WR-TIMEZONE:UTC
BEGIN:VTIMEZONE
TZID:UTC
END:VTIMEZONE
BEGIN:VEVENT
UID:f3613d7d-6706-4d30-9eb5-be7d0200d069
DTSTAMP:20260424T171943Z
CATEGORIES:Veranstaltung
CLASS:PUBLIC
DESCRIPTION;ALTREP="CID:<FFFF__=0ABBE548DFE235B58f9e8a93d@coffeebean.com>":
 * An dieser Veranstaltung können Pflichtarbeitsstunden geleistet werden!
DTSTART:20250412T143000Z
DTEND:20250412T180000Z
GEO:+48.75745;+8.60043
LOCATION:Schützenhaus Calmbach
ORGANIZER;CN=:info@ssv-calmbach.de
SEQUENCE:1
SUMMARY:20. Aprilbock-Waffeneinschießen*
TRANSP:OPAQUE
URL:https://ssv-calmbach.de/index.php/component/icagenda/3-19-aprilbock-waf
 feneinschiessen?Itemid=101
END:VEVENT
END:VCALENDAR
