BEGIN:VCALENDAR
VERSION:2.0
PRODID:-//SSV Calmbach 1960 e.V.//NONSGML kigkonsult.se iCalcreator 2.30.10
 //
CALSCALE:GREGORIAN
METHOD:PUBLISH
UID:c8b3c985-9c7b-42ff-a1fa-08c516726418
X-WR-CALNAME:iCagenda
X-WR-CALDESC:Event Management Extension for Joomla!
X-WR-RELCALID:3E26604A-50F4-4449-8B3E-E4F4932D05B5
X-WR-TIMEZONE:UTC
BEGIN:VTIMEZONE
TZID:UTC
END:VTIMEZONE
BEGIN:VEVENT
UID:290ac637-94b1-42ae-83fe-a28a6b83d353
DTSTAMP:20260422T064747Z
CATEGORIES:Wettbewerb
CLASS:PUBLIC
DESCRIPTION:
DTSTART:20251006T200000Z
DTEND:20251006T220000Z
GEO:+48.779411;+8.57533
LOCATION:Enztalhalle Calmbach
ORGANIZER;CN=:info@ssv-calmbach.de
SEQUENCE:1
SUMMARY:Vereinsmeisterschaften der Bogenschützen
TRANSP:OPAQUE
URL:https://ssv-calmbach.de/index.php/component/icagenda/9-vereinsmeistersc
 haften-der-bogenschuetzen?Itemid=101
END:VEVENT
END:VCALENDAR
